BEGIN:VCALENDAR
VERSION:2.0
PRODID:-//ChamberMaster//Event Calendar 2.0//EN
METHOD:PUBLISH
X-PUBLISHED-TTL:P3D
REFRESH-INTERVAL:P3D
CALSCALE:GREGORIAN
BEGIN:VEVENT
DTSTART:20130122T233000Z
DTEND:20130123T013000Z
X-MICROSOFT-CDO-ALLDAYEVENT:FALSE
SUMMARY:Business After Hours Mixer at La Cima Club
DESCRIPTION:A networking event to introduce Chamber businesses to the host corporation as well as providing an opportunity for Chamber Members to build a network of customers and contacts in the Grapevine area.\n\n	\n\n	Chamber Members - Please RSVP for this Event by clicking the Register Online button above.
X-ALT-DESC;FMTTYPE=text/html:<div>\n	A networking event to introduce Chamber businesses to the host corporation as well as providing an opportunity for Chamber Members to build a network of customers and contacts in the Grapevine area.<br />\n	<br />\n	Chamber Members - Please RSVP for this Event by clicking the Register Online button above.<br />\n	&nbsp\;</div>\n
LOCATION:La Cima Club 5215 N. O'Connor Rd.\, #2600 Irving\, TX 75039
UID:e.770.163240
SEQUENCE:3
DTSTAMP:20260421T212829Z
URL:https://business.grapevinechamber.org/events/details/business-after-hours-mixer-at-la-cima-club-01-22-2013-163240
END:VEVENT

END:VCALENDAR
