BEGIN:VCALENDAR
VERSION:2.0
PRODID:-//ChamberMaster//Event Calendar 2.0//EN
METHOD:PUBLISH
X-PUBLISHED-TTL:P3D
REFRESH-INTERVAL:P3D
CALSCALE:GREGORIAN
BEGIN:VEVENT
DTSTART:20120830T223000Z
DTEND:20120831T003000Z
X-MICROSOFT-CDO-ALLDAYEVENT:FALSE
SUMMARY:Business After Hours Mixer at La Buena Vida Vineyards - Grapevine
DESCRIPTION:A networking event to introduce Chamber businesses to the host corporation as well as providing an opportunity for Chamber Members to build a network of customers and contacts in the Grapevine area.
X-ALT-DESC;FMTTYPE=text/html:<div>\n	A networking event to introduce Chamber businesses to the host corporation as well as providing an opportunity for Chamber Members to build a network of customers and contacts in the Grapevine area.<br />\n	&nbsp\;</div>\n
LOCATION:La Buena Vida Vineyards - Grapevine 416 E. College St. Grapevine\, TX 76051
UID:e.770.162915
SEQUENCE:3
DTSTAMP:20260422T080335Z
URL:https://business.grapevinechamber.org/events/details/business-after-hours-mixer-at-la-buena-vida-vineyards-grapevine-08-30-2012-162915
END:VEVENT

END:VCALENDAR
