BEGIN:VCALENDAR
VERSION:2.0
PRODID:-//ChamberMaster//Event Calendar 2.0//EN
METHOD:PUBLISH
X-PUBLISHED-TTL:P3D
REFRESH-INTERVAL:P3D
CALSCALE:GREGORIAN
BEGIN:VEVENT
DTSTART:20130312T223000Z
DTEND:20130313T003000Z
X-MICROSOFT-CDO-ALLDAYEVENT:FALSE
SUMMARY:Business After Hours Mixer at Joe's Crab Shack
DESCRIPTION:A networking event to introduce Chamber businesses to the host corporation as well as providing an opportunity for Chamber Members to build a network of customers and contacts in the Grapevine area.\n\n	\n\n	Please RSVP if you plan to attend.
X-ALT-DESC;FMTTYPE=text/html:<p>\n	<span style="font-size:16px\;"><span style="font-family: arial\;">A networking event to introduce Chamber businesses to the host corporation as well as providing an opportunity for Chamber Members to build a network of customers and contacts in the Grapevine area.<br />\n	<br />\n	<strong>Please RSVP if you plan to attend.</strong></span></span></p>\n
LOCATION:Joe's Crab Shack 201 W. State Hwy. 114 Grapevine\, TX 76051
UID:e.770.163392
SEQUENCE:3
DTSTAMP:20260421T180221Z
URL:https://business.grapevinechamber.org/events/details/business-after-hours-mixer-at-joe-s-crab-shack-03-12-2013-163392
END:VEVENT

END:VCALENDAR
