BEGIN:VCALENDAR
VERSION:2.0
PRODID:-//ChamberMaster//Event Calendar 2.0//EN
METHOD:PUBLISH
X-PUBLISHED-TTL:P3D
REFRESH-INTERVAL:P3D
CALSCALE:GREGORIAN
BEGIN:VEVENT
DTSTART:20130926T223000Z
DTEND:20130927T003000Z
X-MICROSOFT-CDO-ALLDAYEVENT:FALSE
SUMMARY:Business After Hours Mixer at Esparza's Restaurante Mexicano
DESCRIPTION:A networking event to introduce Chamber businesses to the host corporation as well as providing an opportunity for Chamber Members to build a network of customers and contacts in the Grapevine area.\n\n	\n\n	Please RSVP if you plan to attend.
X-ALT-DESC;FMTTYPE=text/html:<div>\n	A networking event to introduce Chamber businesses to the host corporation as well as providing an opportunity for Chamber Members to build a network of customers and contacts in the Grapevine area.<br />\n	<br />\n	<span style="font-size:14px\;"><strong>Please RSVP if you plan to attend.</strong></span><br />\n	&nbsp\;</div>\n
LOCATION:Esparza's Restaurante Mexicano 124 E. Worth St. Grapevine\, TX 76051
UID:e.770.163557
SEQUENCE:3
DTSTAMP:20260421T063224Z
URL:https://business.grapevinechamber.org/events/details/business-after-hours-mixer-at-esparza-s-restaurante-mexicano-09-26-2013-163557
END:VEVENT

END:VCALENDAR
