BEGIN:VCALENDAR
VERSION:2.0
PRODID:-//ChamberMaster//Event Calendar 2.0//EN
METHOD:PUBLISH
X-PUBLISHED-TTL:P3D
REFRESH-INTERVAL:P3D
CALSCALE:GREGORIAN
BEGIN:VEVENT
DTSTART:20160809T223000Z
DTEND:20160810T000000Z
X-MICROSOFT-CDO-ALLDAYEVENT:FALSE
SUMMARY:Business After Hours Mixer at Cowboys Golf Club
DESCRIPTION:A networking event to introduce Chamber businesses to the host corporation as well as providing an opportunity for Chamber Members to build a network of customers and contacts in the Grapevine area.\n\n\n\nPlease RSVP if you plan to attend!
X-ALT-DESC;FMTTYPE=text/html:A networking event to introduce Chamber businesses to the host corporation as well as providing an opportunity for Chamber Members to build a network of customers and contacts in the Grapevine area.<br />\n<br />\n<strong>Please RSVP if you plan to attend!</strong>
LOCATION:1600 Fairway Dr. Grapevine\, TX 76051
UID:e.770.174795
SEQUENCE:3
DTSTAMP:20260420T084712Z
URL:https://business.grapevinechamber.org/events/details/business-after-hours-mixer-at-cowboys-golf-club-08-09-2016-174795
END:VEVENT

END:VCALENDAR
