BEGIN:VCALENDAR
VERSION:2.0
PRODID:-//ChamberMaster//Event Calendar 2.0//EN
METHOD:PUBLISH
X-PUBLISHED-TTL:P3D
REFRESH-INTERVAL:P3D
CALSCALE:GREGORIAN
BEGIN:VEVENT
DTSTART:20160621T223000Z
DTEND:20160622T000000Z
X-MICROSOFT-CDO-ALLDAYEVENT:FALSE
SUMMARY:Business After Hours Mixer at Brick House Tavern + Tap
DESCRIPTION:A networking event to introduce Chamber businesses to the host corporation as well as providing an opportunity for Chamber Members to build a network of customers and contacts in the Grapevine area.\n\n\n\nPlease RSVP if you plan to attend!
X-ALT-DESC;FMTTYPE=text/html:A networking event to introduce Chamber businesses to the host corporation as well as providing an opportunity for Chamber Members to build a network of customers and contacts in the Grapevine area.<br />\n<br />\n<strong>Please RSVP if you plan to attend!</strong>
LOCATION:700 W. State Hwy. 114 Grapevine\, TX 76051
UID:e.770.174762
SEQUENCE:3
DTSTAMP:20260420T114858Z
URL:https://business.grapevinechamber.org/events/details/business-after-hours-mixer-at-brick-house-tavern-tap-06-21-2016-174762
END:VEVENT

END:VCALENDAR
