BEGIN:VCALENDAR
VERSION:2.0
PRODID:-//ChamberMaster//Event Calendar 2.0//EN
METHOD:PUBLISH
X-PUBLISHED-TTL:P3D
REFRESH-INTERVAL:P3D
CALSCALE:GREGORIAN
BEGIN:VEVENT
DTSTART:20241103T180000Z
DTEND:20241103T200000Z
X-MICROSOFT-CDO-ALLDAYEVENT:FALSE
SUMMARY:Bubbles and Brunch
DESCRIPTION:During this tasting experience\, you'll explore sparkling wine from around the world while enjoying a seasonal brunch grazing board. You'll learn about the methods of making sparkling wine and the different types of this fizzy favorite\, including: Champagne\, Prosecco\, Cava & Cremant. Come enjoy brunch with us and walk away a bubbly wine genius!
X-ALT-DESC;FMTTYPE=text/html:During this tasting experience\, you&#39\;ll explore sparkling wine from around the world while enjoying a seasonal brunch grazing board. You&rsquo\;ll learn about the methods of making sparkling wine and the different types of this fizzy favorite\, including: Champagne\, Prosecco\, Cava &amp\; Cremant. Come enjoy brunch with us and walk away a bubbly wine genius!&nbsp\;
LOCATION:280 N Main St Grapevine\, TX 76051
UID:e.770.199572
SEQUENCE:3
DTSTAMP:20260421T082612Z
URL:https://business.grapevinechamber.org/events/details/bubbles-and-brunch-199572
END:VEVENT

END:VCALENDAR
