BEGIN:VCALENDAR
VERSION:2.0
PRODID:-//ChamberMaster//Event Calendar 2.0//EN
METHOD:PUBLISH
X-PUBLISHED-TTL:P3D
REFRESH-INTERVAL:P3D
CALSCALE:GREGORIAN
BEGIN:VEVENT
DTSTART:20160612T200000Z
DTEND:20160612T230000Z
X-MICROSOFT-CDO-ALLDAYEVENT:FALSE
SUMMARY:Book Signing Event with Author/Photographer Kristi Reese
DESCRIPTION:Join us for an afternoon with Kristi Reese\, local Grapevine author/photographer\, as we discuss her latest project "Grapevine: A Visual Journey Through a Beloved Texas Town". Her beautiful book is a treasure of historical tidbits and gorgeous photography featuring Grapevine locales. A wonderful gift\, coffee table book or souvenir\, this book offers something for everyone. Join us for wine specials\, an author interview and book signing. Free Admission.
X-ALT-DESC;FMTTYPE=text/html:Join us for an afternoon with Kristi Reese\, local Grapevine author/photographer\, as we discuss her latest project &quot\;Grapevine: A Visual Journey Through a Beloved Texas Town&quot\;. Her beautiful book is a treasure of historical tidbits and gorgeous photography featuring Grapevine locales. A wonderful gift\, coffee table book or souvenir\, this book offers something for everyone. Join us for wine specials\, an author interview and book signing. Free Admission.
LOCATION:Umbra Winery 415 S Main St. Grapevine\, Texas 76051
UID:e.770.174948
SEQUENCE:3
DTSTAMP:20260420T114750Z
URL:https://business.grapevinechamber.org/events/details/book-signing-event-with-author-photographer-kristi-reese-06-12-2016-174948
END:VEVENT

END:VCALENDAR
