BEGIN:VCALENDAR
VERSION:2.0
PRODID:-//ChamberMaster//Event Calendar 2.0//EN
METHOD:PUBLISH
X-PUBLISHED-TTL:P3D
REFRESH-INTERVAL:P3D
CALSCALE:GREGORIAN
BEGIN:VEVENT
DTSTART:20230516T213000Z
DTEND:20230517T003000Z
X-MICROSOFT-CDO-ALLDAYEVENT:FALSE
SUMMARY:BODY20 COLLEYVILLE OPEN HOUSE AND WELLNESS EVENT - EXCELLENT NETWORKING OPPORTUNITY
DESCRIPTION:Come Support Your New Chamber Member!  Excellent Networking Opportunity To Sip & Save! \n\n\n\nSuper Fun Open House and Wellness Event! Food Truck\, Gourmet Coffee Truck\, Multiple Guest Vendors Providing Demonstrations\, Samples\, Free Services\, Craft Beer\, Local Wine\, Multiple Drawing\, Awesome Prizes and More!
X-ALT-DESC;FMTTYPE=text/html:<span style="color:#333333"><span style="font-family:arial\,sans-serif"><span style="font-size:10.0pt">Come Support Your New Chamber Member!&nbsp\; Excellent Networking Opportunity To Sip &amp\; Save!&nbsp\;</span></span></span><br />\n<br />\n<span style="color:#333333"><span style="font-family:arial\,sans-serif"><span style="font-size:10.0pt">Super Fun Open House and Wellness Event! Food Truck\, Gourmet Coffee Truck\, Multiple Guest Vendors Providing Demonstrations\, Samples\, Free Services\, Craft Beer\, Local Wine\, Multiple Drawing\, Awesome Prizes and More!&nbsp\;</span></span></span>
LOCATION:5600 Colleyville Blvd.\, Suite 5600-E\, Colleyville\, TX 76034 Oli's Island Shack Authentic Caribbean Food Truck and Witch Water Coffee Co. will be setup in the parking lot!
UID:e.770.197170
SEQUENCE:3
DTSTAMP:20260425T040107Z
URL:https://business.grapevinechamber.org/events/details/body20-colleyville-open-house-and-wellness-event-excellent-networking-opportunity-197170
END:VEVENT

END:VCALENDAR
