BEGIN:VCALENDAR
VERSION:2.0
PRODID:-//ChamberMaster//Event Calendar 2.0//EN
METHOD:PUBLISH
X-PUBLISHED-TTL:P3D
REFRESH-INTERVAL:P3D
CALSCALE:GREGORIAN
BEGIN:VEVENT
DTSTART:20120925T210000Z
DTEND:20120925T210000Z
X-MICROSOFT-CDO-ALLDAYEVENT:FALSE
SUMMARY:Board of Directors Meeting
DESCRIPTION:
X-ALT-DESC;FMTTYPE=text/html:
LOCATION:Grapevine Chamber of Commerce 200 Vine St. Grapevine\, TX 76051
UID:e.770.162609
SEQUENCE:3
DTSTAMP:20260422T094235Z
URL:https://business.grapevinechamber.org/events/details/board-of-directors-meeting-09-25-2012-162609
END:VEVENT

END:VCALENDAR
