BEGIN:VCALENDAR
VERSION:2.0
PRODID:-//ChamberMaster//Event Calendar 2.0//EN
METHOD:PUBLISH
X-PUBLISHED-TTL:P3D
REFRESH-INTERVAL:P3D
CALSCALE:GREGORIAN
BEGIN:VEVENT
DTSTART:20120817T220000Z
DTEND:20120818T010000Z
X-MICROSOFT-CDO-ALLDAYEVENT:FALSE
SUMMARY:Bear Creek Spirits & Wine Tastings
DESCRIPTION:Spirits Tastings\n\n	Pisco\, Western Sun Vodka and Sting Ray Rum.  Western Sun is a new Texas Vodka\, sure to be a winner for those who enjoy a smooth tasting vodka.\n\n	\n\n	Wine and Cheese Pairings\n\n	Banda Dorada Spanish White Wine paired with Mahon Spanish Cheese.\n\n	Casareggio Barbera D'Asti Italian Red Wine\, paired with Sapore del Piave Italian Cheese.
X-ALT-DESC;FMTTYPE=text/html:<p>\n	<strong>Spirits Tastings</strong><br />\n	Pisco\, Western Sun Vodka and Sting Ray Rum.&nbsp\; Western Sun is a new Texas Vodka\, sure to be a winner for those who enjoy a smooth tasting vodka.<br />\n	<br />\n	<strong>Wine and Cheese Pairings</strong><br />\n	Banda Dorada Spanish White Wine <em>paired with</em> Mahon Spanish Cheese.<br />\n	Casareggio Barbera D&#39\;Asti Italian Red Wine\, <em>paired with</em> Sapore del Piave Italian Cheese.</p>\n
LOCATION:Bear Creek Spirits and Wine\, 7101 Colleyville Blvd.\, Colleyville TX 76034\, 817-251-8789
UID:e.770.162987
SEQUENCE:3
DTSTAMP:20260422T093938Z
URL:https://business.grapevinechamber.org/events/details/bear-creek-spirits-wine-tastings-08-17-2012-162987
END:VEVENT

END:VCALENDAR
