BEGIN:VCALENDAR
VERSION:2.0
PRODID:-//ChamberMaster//Event Calendar 2.0//EN
METHOD:PUBLISH
X-PUBLISHED-TTL:P3D
REFRESH-INTERVAL:P3D
CALSCALE:GREGORIAN
BEGIN:VEVENT
DTSTART:20120818T210000Z
DTEND:20120819T000000Z
X-MICROSOFT-CDO-ALLDAYEVENT:FALSE
SUMMARY:Bear Creek Spirits and Wine Tastings
DESCRIPTION:Spirits Tastings\n\nAbsolute Vodka and Absolute Mandarin Vodka\n\n\n\nWine and Cheese Pairings\n\nBanda Dorada Spanish White Wine paired with Mahon Spanish Cheese.\n\nCasareggio Barbera D'Asti Italian Red Wine\, paired with Sapore del Piave Italian Cheese.
X-ALT-DESC;FMTTYPE=text/html:<strong>Spirits Tastings</strong><br />\nAbsolute Vodka and Absolute Mandarin Vodka<br />\n<br />\n<strong>Wine and Cheese Pairings</strong><br />\nBanda Dorada Spanish White Wine <em>paired with </em>Mahon Spanish Cheese.<br />\nCasareggio Barbera D&#39\;Asti Italian Red Wine\,<em> paired with </em>Sapore del Piave Italian Cheese.<br />\n
LOCATION:Bear Creek Spirits and Wine\, 7101 Colleyville Blvd.\, Colleyville TX 76034\, 817-251-8789
UID:e.770.162988
SEQUENCE:3
DTSTAMP:20260424T084943Z
URL:https://business.grapevinechamber.org/events/details/bear-creek-spirits-and-wine-tastings-08-18-2012-162988
END:VEVENT

END:VCALENDAR
