BEGIN:VCALENDAR
VERSION:2.0
PRODID:-//ChamberMaster//Event Calendar 2.0//EN
METHOD:PUBLISH
X-PUBLISHED-TTL:P3D
REFRESH-INTERVAL:P3D
CALSCALE:GREGORIAN
BEGIN:VEVENT
DTSTART:20230506T150000Z
DTEND:20230506T170000Z
X-MICROSOFT-CDO-ALLDAYEVENT:FALSE
SUMMARY:Baylor Scott & White Medical Center- Grapevine Community Open House
DESCRIPTION:Bring your family to our FREE open house event\n			 \n\n			With features like our brand-new operating robot\, you have even more access to the advanced care you need\, right in your neighborhood.  \n\n			 \n\n			Join us for a free interactive event for all ages to learn about our robot and hear from experts about health and wellness topics. There will also be a "Name the Robot" contest.
X-ALT-DESC;FMTTYPE=text/html:<table align="left" border="0" cellpadding="0" cellspacing="0" style="border-collapse:collapse\; margin-left:6.8pt\; margin-right:6.8pt\; width:717px">\n	<tbody>\n		<tr>\n			<td style="height:290px\; vertical-align:top\; width:316px">\n			<h2>Bring your family to our FREE open house event</h2>\n			&nbsp\;<br />\n			With features like our brand-new operating robot\, you have even more access to the advanced care you need\, right in your neighborhood. &nbsp\;<br />\n			&nbsp\;<br />\n			Join us for a free interactive event for all ages to learn about our robot and hear from experts about health and wellness topics. There will also be a &quot\;Name the Robot&quot\; contest.<br />\n			&nbsp\;</td>\n			<td style="height:290px\; vertical-align:top\; width:38px">&nbsp\;</td>\n		</tr>\n	</tbody>\n</table>\n
LOCATION:Baylor Scott & White Medical Center Grapevine Main Entrance Lobby (Tower 1) 1650 W. College Street Grapevine\, TX 76051
UID:e.770.197138
SEQUENCE:3
DTSTAMP:20260425T034250Z
URL:https://business.grapevinechamber.org/events/details/baylor-scott-white-community-open-house-197138
END:VEVENT

END:VCALENDAR
