BEGIN:VCALENDAR
VERSION:2.0
PRODID:-//ChamberMaster//Event Calendar 2.0//EN
METHOD:PUBLISH
X-PUBLISHED-TTL:P3D
REFRESH-INTERVAL:P3D
CALSCALE:GREGORIAN
BEGIN:VEVENT
DTSTART:20130625T220000Z
DTEND:20130626T003000Z
X-MICROSOFT-CDO-ALLDAYEVENT:FALSE
SUMMARY:Bank of the West Bike Assembly for "Spokes for Hope"
DESCRIPTION:Supporting "Spokes for Hope"\, Bank of the West is donating 40 bicycles to this great organization whose mission is to "Help brighten the lives of Children" who have been effected by illness\, family tragedy or disaster.\n\n\n\nJoin us for a bike assembly event with complementary hamburgers and hotdogs and enjoy a special musical appearance by County Recording Artist - MIKE RYAN!
X-ALT-DESC;FMTTYPE=text/html:Supporting &quot\;Spokes for Hope&quot\;\, Bank of the West is donating 40 bicycles to this great organization whose mission is to &quot\;Help brighten the lives of Children&quot\; who have been effected by illness\, family tragedy or disaster.<br />\n<br />\nJoin us for a bike assembly event with complementary hamburgers and hotdogs and enjoy a special musical appearance by County Recording Artist - MIKE RYAN!
LOCATION:Bank of the West 108 West Northwest Hwy Grapevine\, TX 76051
UID:e.770.163561
SEQUENCE:3
DTSTAMP:20260420T095743Z
URL:https://business.grapevinechamber.org/events/details/bank-of-the-west-bike-assembly-for-spokes-for-hope-06-25-2013-163561
END:VEVENT

END:VCALENDAR
