BEGIN:VCALENDAR
VERSION:2.0
PRODID:-//ChamberMaster//Event Calendar 2.0//EN
METHOD:PUBLISH
X-PUBLISHED-TTL:P3D
REFRESH-INTERVAL:P3D
CALSCALE:GREGORIAN
BEGIN:VEVENT
DTSTART:20130824T003000Z
DTEND:20130824T003000Z
X-MICROSOFT-CDO-ALLDAYEVENT:FALSE
SUMMARY:B.B. Secrist The Rockin Piano Man at the Palace Arts Center
DESCRIPTION:Since 1976\, B.B. The Rockin' Piano Man has toured the U.S.\, Canada and Europe\, appeared on various TV shows and opened for many top stars in the music industry. Currently B.B. captivates audiences at throughout the country with his Rock-n-Roll revue and tribute to Jerry Lee Lewis.\n\n	\n\n	For more information and tickets\, click here.
X-ALT-DESC;FMTTYPE=text/html:<p>\n	<span style="font-size:14px\;"><span style="font-family: arial\;">Since 1976\, B.B. The Rockin&#39\; Piano Man has toured the U.S.\, Canada and Europe\, appeared on various TV shows and opened for many top stars in the music industry. Currently B.B. captivates audiences at throughout the country with his Rock-n-Roll revue and tribute to Jerry Lee Lewis.<br />\n	<br />\n	For more information and tickets\, <a href="https://www.grapevinetexasusa.com/Heritage/PalaceArtsCenter/LivePerformances/BBSecrist/tabid/1270/Default.aspx" target="_blank">click here</a>.</span></span></p>\n
LOCATION:Palace Arts Center 300 S. Main St. Grapevine\, TX 76051
UID:e.770.164055
SEQUENCE:3
DTSTAMP:20260421T081313Z
URL:https://business.grapevinechamber.org/events/details/b-b-secrist-the-rockin-piano-man-at-the-palace-arts-center-08-23-2013-164055
END:VEVENT

END:VCALENDAR
