BEGIN:VCALENDAR
VERSION:2.0
PRODID:-//ChamberMaster//Event Calendar 2.0//EN
METHOD:PUBLISH
X-PUBLISHED-TTL:P3D
REFRESH-INTERVAL:P3D
CALSCALE:GREGORIAN
BEGIN:VEVENT
DTSTART;VALUE=DATE:20130206
DTEND;VALUE=DATE:20130207
TRANSP:TRANSPARENT
X-MICROSOFT-CDO-ALLDAYEVENT:TRUE
SUMMARY:Austin Trip - Leadership Grapevine
DESCRIPTION:Wednesday\, February 6\, 2013 will be the Grapevine Day in Austin. We invite you to come with the Leadership Grapevine Class to spend a day at the Texas State Capital. We will be taking a bus from Grapevine and returning the same day. You will visit the House and Senate\, tour the Capital\, have lunch in downtown\, hear from our area legislators\, visit the legislative offices\, and finish the day with dinner on 6th Street. The cost for the trip and lunch is $75.\n\n	\n\n	See attached flyer for details. Contact the Chamber today to make your reservations as we let those in Austin know that Grapevine appreciates their time\, but is concerned with how their actions in the 83rd Legislative Session will affect our businesses and the future of Texas!\n\n	\n\n	To register\, please click on the Register Online button above.
X-ALT-DESC;FMTTYPE=text/html:<p>\n	<span style="font-size:16px\;"><span style="font-family: arial\;">Wednesday\, February 6\, 2013 will be the Grapevine Day in Austin. We invite you to come with the Leadership Grapevine Class to spend a day at the Texas State Capital. We will be taking a bus from Grapevine and returning the same day. You will visit the House and Senate\, tour the Capital\, have lunch in downtown\, hear from our area legislators\, visit the legislative offices\, and finish the day with dinner on 6th Street. The cost for the trip and lunch is $75.<br />\n	<br />\n	<a href="http://www.grapevinechamber.org/files/austin2013.pdf" target="_blank">See attached flyer for details.</a> Contact the Chamber today to make your reservations as we let those in Austin know that Grapevine appreciates their time\, but is concerned with how their actions in the 83rd Legislative Session will affect our businesses and the future of Texas!<br />\n	<br />\n	<em><strong>To register\, please click on the Register Online button above. </strong></em></span></span></p>\n
LOCATION:
UID:e.770.162972
SEQUENCE:3
DTSTAMP:20260421T192433Z
URL:https://business.grapevinechamber.org/events/details/austin-trip-leadership-grapevine-02-06-2013-162972
END:VEVENT

END:VCALENDAR
