BEGIN:VCALENDAR
VERSION:2.0
PRODID:-//ChamberMaster//Event Calendar 2.0//EN
METHOD:PUBLISH
X-PUBLISHED-TTL:P3D
REFRESH-INTERVAL:P3D
CALSCALE:GREGORIAN
BEGIN:VEVENT
DTSTART:20220827T170000Z
DTEND:20220827T230000Z
X-MICROSOFT-CDO-ALLDAYEVENT:FALSE
SUMMARY:August Art Market
DESCRIPTION:Family and Pet Friendly Art & Artisan Market at False Idol Brewing!\n\nBring the family\, shop small\, & enjoy some craft beer! 12-6 PM\n\nFood Trucks: Daddy B's\n\n \n\nAll vendor fees go towards our nonprofit organization to help sexual assault survivors afford art therapy and creative healing programs.
X-ALT-DESC;FMTTYPE=text/html:<div>Family and Pet Friendly Art &amp\; Artisan Market at False Idol Brewing!</div>\n\n<div>Bring the family\, shop small\, &amp\; enjoy some craft beer! 12-6 PM</div>\n\n<div>Food Trucks: Daddy B&#39\;s</div>\n\n<div>&nbsp\;</div>\n\n<div>All vendor fees go towards our nonprofit organization to help sexual assault survivors afford art therapy and creative healing programs.</div>\n
LOCATION:False Idol Brewing 7924 Maplewood Ave\, North Richland Hills\, Tx 76180
UID:e.770.195441
SEQUENCE:3
DTSTAMP:20260425T194221Z
URL:https://business.grapevinechamber.org/events/details/august-art-market-195441
END:VEVENT

END:VCALENDAR
