BEGIN:VCALENDAR
VERSION:2.0
PRODID:-//ChamberMaster//Event Calendar 2.0//EN
METHOD:PUBLISH
X-PUBLISHED-TTL:P3D
REFRESH-INTERVAL:P3D
CALSCALE:GREGORIAN
BEGIN:VEVENT
DTSTART:20230812T180000Z
DTEND:20230812T230000Z
X-MICROSOFT-CDO-ALLDAYEVENT:FALSE
SUMMARY:Art & Vendor Market at Hop & Sting
DESCRIPTION:Saturday August 12th we're setting up a pop-up market inside Hop & Sting Brewery from 1-6pm! \n\nHosted by local artists and makers\, all supporting The Usual Artspects charity.\n\nShop and enjoy the vibe with live music featuring the Harmony Honeys starting at 1:30pm
X-ALT-DESC;FMTTYPE=text/html:<div>Saturday August 12th we&#39\;re setting up a pop-up market inside Hop &amp\; Sting Brewery from 1-6pm!&nbsp\;</div>\n\n<div>Hosted by local artists and makers\, all supporting The Usual Artspects charity.</div>\n\n<div>Shop and enjoy the vibe with live music featuring the Harmony Honeys starting at 1:30pm</div>\n
LOCATION:906 Jean St. Grapevine\, Tx 76051
UID:e.770.197372
SEQUENCE:3
DTSTAMP:20260424T221436Z
URL:https://business.grapevinechamber.org/events/details/art-vendor-market-at-hop-sting-197372
END:VEVENT

END:VCALENDAR
