BEGIN:VCALENDAR
VERSION:2.0
PRODID:-//ChamberMaster//Event Calendar 2.0//EN
METHOD:PUBLISH
X-PUBLISHED-TTL:P3D
REFRESH-INTERVAL:P3D
CALSCALE:GREGORIAN
BEGIN:VEVENT
DTSTART:20121209T193000Z
DTEND:20121209T210000Z
X-MICROSOFT-CDO-ALLDAYEVENT:FALSE
SUMMARY:Art Prayer Flags
DESCRIPTION:As we edge into winter\, lets get together and enjoy some tea or hot chocolate\, as we create a special Art Prayer flag. Your cup of warmth and all supplies are included to create a unique prayer flag for you or a loved one. Sign up by emailing Sharen at sharen@gypsymusestudio.com or fill out the below form. Cost is $25.00\, class is an hour and a half long. If you have a group of two or more and would like to schedule this class at another time\, just email me.
X-ALT-DESC;FMTTYPE=text/html:As we edge into winter\, lets get together and enjoy some tea or hot chocolate\, as we create a special Art Prayer flag. Your cup of warmth and all supplies are included to create a unique prayer flag for you or a loved one. Sign up by emailing Sharen at sharen@gypsymusestudio.com or fill out the below form. Cost is $25.00\, class is an hour and a half long. If you have a group of two or more and would like to schedule this class at another time\, just email me. 
LOCATION:106 East Texas St.\, Grapevine\, TX\, 76051\, United States
UID:e.770.163086
SEQUENCE:3
DTSTAMP:20260423T152240Z
URL:https://business.grapevinechamber.org/events/details/art-prayer-flags-12-09-2012-163086
END:VEVENT

END:VCALENDAR
