BEGIN:VCALENDAR
VERSION:2.0
PRODID:-//ChamberMaster//Event Calendar 2.0//EN
METHOD:PUBLISH
X-PUBLISHED-TTL:P3D
REFRESH-INTERVAL:P3D
CALSCALE:GREGORIAN
BEGIN:VEVENT
DTSTART:20120818T133000Z
DTEND:20120818T163000Z
X-MICROSOFT-CDO-ALLDAYEVENT:FALSE
SUMMARY:Annual Vineyard Dental-Carter Blood Drive
DESCRIPTION:Join us for the Annual Vineyard Dental - Carter Blood Drive!\n\n	 \n\n	Saturday August 18\, 2012 from 8:30 to 11:30 am.\n\n	We will have prizes\, refreshments\, and drawings for all visitors!\n\n	The Carter Bus will be here in front of the office for anyone wishing to donate blood for a great cause!\n\n	Look forward to seeing you there!
X-ALT-DESC;FMTTYPE=text/html:<p style="text-align: center">\n	<span style="background-color: #00ffff"><span style="color: #000000"><span style="font-size: 16px"><span style="font-family: tahoma"><span style="font-size: 20px">Join us for the Annual Vineyard Dental - Carter Blood Drive!</span></span></span></span></span><br />\n	&nbsp\;</p>\n<p style="text-align: center">\n	<span style="background-color: #00ffff"><span style="color: #000000"><span style="font-size: 16px"><span style="font-family: tahoma">Saturday August 18\, 2012 from 8:30 to 11:30 am.<br />\n	We will have prizes\, refreshments\, and drawings for all visitors!<br />\n	The Carter Bus will be here in front of the office for anyone wishing to donate blood for a great cause!<br />\n	Look forward to seeing you there!</span></span></span></span></p>\n
LOCATION:2030 Glade Rd. @ Vineyard Dental the office of Richard Perez\, DDS next door to Hobby Lobby
UID:e.770.162920
SEQUENCE:3
DTSTAMP:20260422T080216Z
URL:https://business.grapevinechamber.org/events/details/annual-vineyard-dental-carter-blood-drive-08-18-2012-162920
END:VEVENT

END:VCALENDAR
