BEGIN:VCALENDAR
VERSION:2.0
PRODID:-//ChamberMaster//Event Calendar 2.0//EN
METHOD:PUBLISH
X-PUBLISHED-TTL:P3D
REFRESH-INTERVAL:P3D
CALSCALE:GREGORIAN
BEGIN:VEVENT
DTSTART:20241006T180000Z
DTEND:20241006T210000Z
X-MICROSOFT-CDO-ALLDAYEVENT:FALSE
SUMMARY:Ambucs Cornhole Tournament
DESCRIPTION:Save the Date\n\n1 PM October 6\, 2024\n\nGrapevine AMBUCS Big Hat Club\n\n3rd Annual Cornhole Tournament\n\nExpanded to up to 64 teams \n\nAll Brand New Regulation Boards\n\nSponsorships Available \n\nIncluding your team's name or company name on Board\n\n\n\ngrapevineambucs@wildapricot.org
X-ALT-DESC;FMTTYPE=text/html:<p align="center" style="margin: 16px 0px\; font-family: Arial\, Helvetica\, sans-serif\; font-size: 16px\; background-color: rgb(255\, 255\, 255)\;">Save the Date</p>\n\n<p align="center" style="margin: 16px 0px\; font-family: Arial\, Helvetica\, sans-serif\; font-size: 16px\; background-color: rgb(255\, 255\, 255)\;">1 PM October 6\, 2024</p>\n\n<p align="center" style="margin: 16px 0px\; font-family: Arial\, Helvetica\, sans-serif\; font-size: 16px\; background-color: rgb(255\, 255\, 255)\;">Grapevine AMBUCS Big Hat Club</p>\n\n<p align="center" style="margin: 16px 0px\; font-family: Arial\, Helvetica\, sans-serif\; font-size: 16px\; background-color: rgb(255\, 255\, 255)\;">3rd Annual Cornhole Tournament</p>\n\n<p align="center" style="margin: 16px 0px\; font-family: Arial\, Helvetica\, sans-serif\; font-size: 16px\; background-color: rgb(255\, 255\, 255)\;">Expanded to up to 64 teams&nbsp\;</p>\n\n<p align="center" style="margin: 16px 0px\; font-family: Arial\, Helvetica\, sans-serif\; font-size: 16px\; background-color: rgb(255\, 255\, 255)\;">All Brand New Regulation Boards</p>\n\n<p align="center" style="margin: 16px 0px\; font-family: Arial\, Helvetica\, sans-serif\; font-size: 16px\; background-color: rgb(255\, 255\, 255)\;">Sponsorships Available&nbsp\;</p>\n\n<p align="center" style="margin: 16px 0px\; font-family: Arial\, Helvetica\, sans-serif\; font-size: 16px\; background-color: rgb(255\, 255\, 255)\;">Including your team&#39\;s name or company name on Board<br />\n<br />\n<span class="qu" role="gridcell" style="outline: none\;" tabindex="-1" translate="no"><span class="go" style="vertical-align: top\; color: rgb(94\, 94\, 94)\;">grapevineambucs@wildapricot.org</span></span></p>\n
LOCATION:
UID:e.770.198483
SEQUENCE:3
DTSTAMP:20260423T201428Z
URL:https://business.grapevinechamber.org/events/details/ambucs-cornhole-tournament-198483
END:VEVENT

END:VCALENDAR
