BEGIN:VCALENDAR
VERSION:2.0
PRODID:-//ChamberMaster//Event Calendar 2.0//EN
METHOD:PUBLISH
X-PUBLISHED-TTL:P3D
REFRESH-INTERVAL:P3D
CALSCALE:GREGORIAN
BEGIN:VEVENT
DTSTART:20250214T000000Z
DTEND:20250214T030000Z
X-MICROSOFT-CDO-ALLDAYEVENT:FALSE
SUMMARY:Ambucs Bowling Tournament
DESCRIPTION:AMBUCS BOWLING TOURNAMENT\n\nFeb. 13\, 2025 6 pm\n\nSignup coming soon to \n\nGrapevineambucs.org
X-ALT-DESC;FMTTYPE=text/html:<p align="center" style="margin: 16px 0px\; font-family: Arial\, Helvetica\, sans-serif\; font-size: 16px\; background-color: rgb(255\, 255\, 255)\;">AMBUCS BOWLING TOURNAMENT</p>\n\n<p align="center" style="margin: 16px 0px\; font-family: Arial\, Helvetica\, sans-serif\; font-size: 16px\; background-color: rgb(255\, 255\, 255)\;">Feb. 13\, 2025 6 pm</p>\n\n<p align="center" style="margin: 16px 0px\; font-family: Arial\, Helvetica\, sans-serif\; font-size: 16px\; background-color: rgb(255\, 255\, 255)\;">Signup coming soon to&nbsp\;</p>\n\n<p align="center" style="margin: 16px 0px\; font-family: Arial\, Helvetica\, sans-serif\; font-size: 16px\; background-color: rgb(255\, 255\, 255)\;">Grapevineambucs.org</p>\n
LOCATION:Main Event
UID:e.770.200481
SEQUENCE:3
DTSTAMP:20260423T134522Z
URL:https://business.grapevinechamber.org/events/details/ambucs-bowling-tournament-200481
END:VEVENT

END:VCALENDAR
