BEGIN:VCALENDAR
VERSION:2.0
PRODID:-//ChamberMaster//Event Calendar 2.0//EN
METHOD:PUBLISH
X-PUBLISHED-TTL:P3D
REFRESH-INTERVAL:P3D
CALSCALE:GREGORIAN
BEGIN:VEVENT
DTSTART:20121017T223000Z
DTEND:20121017T223000Z
X-MICROSOFT-CDO-ALLDAYEVENT:FALSE
SUMMARY:Ambassadors Committee Meeting
DESCRIPTION:A monthly meeting of the Ambassadors Committee to plan upcoming Ribbon Cuttings and other events to welcome new members to the Chamber and to host the Chamber luncheons and other networking events.  Ambassador's are active members of the Grapevine Chamber who are considered the "Welcoming Arm" of the Chamber of Commerce.
X-ALT-DESC;FMTTYPE=text/html:A monthly meeting of the Ambassadors Committee to plan upcoming Ribbon Cuttings and other events to welcome new members to the Chamber and to host the Chamber luncheons and other networking events.&nbsp\; Ambassador&#39\;s are active members of the Grapevine Chamber who are considered the &quot\;Welcoming Arm&quot\; of the Chamber of Commerce.
LOCATION:Cork It! Fine Wines\, Spirits & Bistro 909 S. Main St.\, #101 Grapevine\, TX 76051
UID:e.770.162587
SEQUENCE:3
DTSTAMP:20260422T110450Z
URL:https://business.grapevinechamber.org/events/details/ambassadors-committee-meeting-10-17-2012-162587
END:VEVENT

END:VCALENDAR
