BEGIN:VCALENDAR
VERSION:2.0
PRODID:-//ChamberMaster//Event Calendar 2.0//EN
METHOD:PUBLISH
X-PUBLISHED-TTL:P3D
REFRESH-INTERVAL:P3D
CALSCALE:GREGORIAN
BEGIN:VEVENT
DTSTART:20260819T220000Z
DTEND:20260819T230000Z
X-MICROSOFT-CDO-ALLDAYEVENT:FALSE
SUMMARY:Ambassador Meeting
DESCRIPTION:
X-ALT-DESC;FMTTYPE=text/html:
LOCATION:Blankenship Business Center 200 Vine St Grapevine\, TX
UID:e.770.203353
SEQUENCE:3
DTSTAMP:20260421T083259Z
URL:https://business.grapevinechamber.org/events/details/ambassador-meeting-08-19-2026-203353
END:VEVENT

END:VCALENDAR
