BEGIN:VCALENDAR
VERSION:2.0
PRODID:-//ChamberMaster//Event Calendar 2.0//EN
METHOD:PUBLISH
X-PUBLISHED-TTL:P3D
REFRESH-INTERVAL:P3D
CALSCALE:GREGORIAN
BEGIN:VEVENT
DTSTART:20230816T223000Z
DTEND:20230816T233000Z
X-MICROSOFT-CDO-ALLDAYEVENT:FALSE
SUMMARY:Ambassador Meeting
DESCRIPTION:The Ambassadors are the "Welcoming Arm of the Chamber"\, with members promoting their businesses by participating in ribbon cuttings\, grand openings\, and volunteering at various events.
X-ALT-DESC;FMTTYPE=text/html:The Ambassadors are the &quot\;Welcoming Arm of the Chamber&quot\;\, with members promoting their businesses by participating in ribbon cuttings\, grand openings\, and volunteering at various events.
LOCATION:Blankenship Business Center 200 Vine St. E Grapevine\, TX 76051
UID:e.770.196085
SEQUENCE:3
DTSTAMP:20260424T073103Z
URL:https://business.grapevinechamber.org/events/details/ambassador-meeting-08-16-2023-196085
END:VEVENT

END:VCALENDAR
