BEGIN:VCALENDAR
VERSION:2.0
PRODID:-//ChamberMaster//Event Calendar 2.0//EN
METHOD:PUBLISH
X-PUBLISHED-TTL:P3D
REFRESH-INTERVAL:P3D
CALSCALE:GREGORIAN
BEGIN:VEVENT
DTSTART:20230920T220000Z
DTEND:20230920T233000Z
X-MICROSOFT-CDO-ALLDAYEVENT:FALSE
SUMMARY:Ambassador Happy Hour
DESCRIPTION:The Ambassadors are the "Welcoming Arm of the Chamber"\, with members promoting their businesses by participating in ribbon cuttings\, grand openings\, and volunteering at various events.
X-ALT-DESC;FMTTYPE=text/html:<br />\n<br />\nThe Ambassadors are the &quot\;Welcoming Arm of the Chamber&quot\;\, with members promoting their businesses by participating in ribbon cuttings\, grand openings\, and volunteering at various events.
LOCATION:Chicken N Pickle 4600 Merlot Ave. Grapevine
UID:e.770.196086
SEQUENCE:3
DTSTAMP:20260424T091751Z
URL:https://business.grapevinechamber.org/events/details/ambassador-happy-hour-09-20-2023-196086
END:VEVENT

END:VCALENDAR
