BEGIN:VCALENDAR
VERSION:2.0
PRODID:-//ChamberMaster//Event Calendar 2.0//EN
METHOD:PUBLISH
X-PUBLISHED-TTL:P3D
REFRESH-INTERVAL:P3D
CALSCALE:GREGORIAN
BEGIN:VEVENT
DTSTART:20240117T230000Z
DTEND:20240118T000000Z
X-MICROSOFT-CDO-ALLDAYEVENT:FALSE
SUMMARY:Ambassador Happy Hour
DESCRIPTION:The Ambassadors are the "Welcoming Arm of the Chamber"\, with members promoting their businesses by participating in ribbon cuttings\, grand openings\, and volunteering at various events.  Not an Ambassador? Come on out an see what this group is all about!
X-ALT-DESC;FMTTYPE=text/html:The Ambassadors are the &quot\;Welcoming Arm of the Chamber&quot\;\, with members promoting their businesses by participating in ribbon cuttings\, grand openings\, and volunteering at various events.&nbsp\; Not an Ambassador? Come on out an see what this group is all about!
LOCATION:Hoffbrau Steak & Grill House 700 W State Hwy 114 Grapevine\, TX 76051
UID:e.770.196090
SEQUENCE:3
DTSTAMP:20260424T163142Z
URL:https://business.grapevinechamber.org/events/details/ambassador-happy-hour-01-17-2024-196090
END:VEVENT

END:VCALENDAR
