BEGIN:VCALENDAR
VERSION:2.0
PRODID:-//ChamberMaster//Event Calendar 2.0//EN
METHOD:PUBLISH
X-PUBLISHED-TTL:P3D
REFRESH-INTERVAL:P3D
CALSCALE:GREGORIAN
BEGIN:VEVENT
DTSTART:20120804T140000Z
DTEND:20120804T170000Z
X-MICROSOFT-CDO-ALLDAYEVENT:FALSE
SUMMARY:Alpha Wellness Center: Summer Spectacle! Downtown Grapevine
DESCRIPTION:Family Fun Event\n\n\n\nHundred of community family members celebrating back to school with a festive luau focused on health\, wellness & safety\, including:\n\n	\n		Live music\n	\n		Healthy food and snacks\n	\n		Police car and drug sniffing dog\n	\n		Fire truck display\n	\n		Backpack safety demonstration\n	\n		Complimentary massage chair\n	\n		Farmer's market booth\n	\n		Homemade ice cream making & tasting\n	\n		Prizes and raffle giveaway
X-ALT-DESC;FMTTYPE=text/html:<br />\n<span style="font-size:14px\;"><span style="font-family: arial\; "><span style="font-size:16px\;"><strong>Family Fun Event</strong></span><br />\n<br />\nHundred of community family members celebrating back to school with a festive luau focused on health\, wellness &amp\; safety\, including:</span></span>\n<ul>\n	<li>\n		<span style="font-size:14px\;"><span style="font-family: arial\; ">Live music</span></span></li>\n	<li>\n		<span style="font-size:14px\;"><span style="font-family: arial\; ">Healthy food and snacks</span></span></li>\n	<li>\n		<span style="font-size:14px\;"><span style="font-family: arial\; ">Police car and drug sniffing dog</span></span></li>\n	<li>\n		<span style="font-size:14px\;"><span style="font-family: arial\; ">Fire truck display</span></span></li>\n	<li>\n		<span style="font-size:14px\;"><span style="font-family: arial\; ">Backpack safety demonstration</span></span></li>\n	<li>\n		<span style="font-size:14px\;"><span style="font-family: arial\; ">Complimentary massage chair</span></span></li>\n	<li>\n		<span style="font-size:14px\;"><span style="font-family: arial\; ">Farmer&#39\;s market booth</span></span></li>\n	<li>\n		<span style="font-size:14px\;"><span style="font-family: arial\; ">Homemade ice cream making &amp\; tasting</span></span></li>\n	<li>\n		<span style="font-size:14px\;"><span style="font-family: arial\; ">Prizes and raffle giveaway</span></span></li>\n</ul>\n
LOCATION:1300 Block of South Main Street Grapevine\, Texas Alpha Wellness Center Location: 1340 S. Main Street\, Suite 305\, Grapevine\, Texas Directly across from Bob's Steak and Chophouse\, 1 block North of Hwy 114. We are located in the Carpenter Business Center north of Wells Fargo Bank on the West side of Historic Main Street in Grapevine.
UID:e.770.162947
SEQUENCE:3
DTSTAMP:20260422T080045Z
URL:https://business.grapevinechamber.org/events/details/alpha-wellness-center-summer-spectacle-downtown-grapevine-08-04-2012-162947
END:VEVENT

END:VCALENDAR
