BEGIN:VCALENDAR
VERSION:2.0
PRODID:-//ChamberMaster//Event Calendar 2.0//EN
METHOD:PUBLISH
X-PUBLISHED-TTL:P3D
REFRESH-INTERVAL:P3D
CALSCALE:GREGORIAN
BEGIN:VEVENT
DTSTART:20121212T180000Z
DTEND:20121212T190000Z
X-MICROSOFT-CDO-ALLDAYEVENT:FALSE
SUMMARY:Addictions\, Compulsions\, Cravings
DESCRIPTION:Holiday stress bringing out the Cookie Monster in you?\n\n	Come to our office and let us feed you a great lunch while you learn how to support a healthy brain and immune system during this busy season!
X-ALT-DESC;FMTTYPE=text/html:<p class="MsoNormal">\n	<span style="color:#0000ff\;"><span century="" font-weight:="" style="font-size: 12pt\; font-family: ">Holiday stress bringing out the Cookie Monster in <em>you?</em></span></span></p>\n<p class="MsoNormal" style="margin-bottom: 3pt\;">\n	<span style="color:#0000ff\;"><span century="" font-weight:="" style="font-size: 12pt\; font-family: ">Come to our office and let us feed you a great lunch while you learn how to support a healthy brain and immune system during this busy season!</span></span></p>\n<p class="MsoNormal">\n	<span style="color:#0000ff\;"><span>&nbsp\;</span></span></p>\n
LOCATION:Kotsanis Institute 2260 Pool Road Grapevine\, Texas 76051
UID:e.770.163232
SEQUENCE:3
DTSTAMP:20260423T152303Z
URL:https://business.grapevinechamber.org/events/details/addictions-compulsions-cravings-12-12-2012-163232
END:VEVENT

END:VCALENDAR
