BEGIN:VCALENDAR
VERSION:2.0
PRODID:-//ChamberMaster//Event Calendar 2.0//EN
METHOD:PUBLISH
X-PUBLISHED-TTL:P3D
REFRESH-INTERVAL:P3D
CALSCALE:GREGORIAN
BEGIN:VEVENT
DTSTART;VALUE=DATE:20260515
DTEND;VALUE=DATE:20260518
TRANSP:TRANSPARENT
X-MICROSOFT-CDO-ALLDAYEVENT:TRUE
SUMMARY:42nd Annual Main Street Fest - A Craft Brew Experience
DESCRIPTION:Tap into three full days of festival fun at Grapevine's 42nd Annual Main Street Fest - A Craft Brew Experience May 15\, 16 and 17\, 2026! Held along Main Street in Historic Downtown Grapevine\, guests will experience new and returning favorites at this event\, with a special emphasis on craft brew tasting experiences.
X-ALT-DESC;FMTTYPE=text/html:Tap into three full days of festival fun at Grapevine&#39\;s 42nd Annual Main Street Fest - A Craft Brew Experience May 15\, 16 and 17\, 2026! Held along Main Street in Historic Downtown Grapevine\, guests will experience new and returning favorites at this event\, with a special emphasis on craft brew tasting experiences.
LOCATION:Historic Downtown Grapevine
UID:e.770.202281
SEQUENCE:3
DTSTAMP:20260421T113700Z
URL:https://business.grapevinechamber.org/events/details/42nd-annual-main-street-fest-a-craft-brew-experience-202281
END:VEVENT

END:VCALENDAR
