BEGIN:VCALENDAR
VERSION:2.0
PRODID:-//ChamberMaster//Event Calendar 2.0//EN
METHOD:PUBLISH
X-PUBLISHED-TTL:P3D
REFRESH-INTERVAL:P3D
CALSCALE:GREGORIAN
BEGIN:VEVENT
DTSTART:20230515T133000Z
DTEND:20230515T190000Z
X-MICROSOFT-CDO-ALLDAYEVENT:FALSE
SUMMARY:3rd Annual ELITE Fitness & Nutrition Golf Tournament
DESCRIPTION:Join us for the 3rd Annual E.F.N. Charity Golf Tournament.  This years proceeds will go to support the North Texas Food Bank.  The Tarrant County NTFB serves 13 counties providing 1\,000\,000 meals per week.  Just $10 dollars can provide up to 50 meals for hungry children\, families and seniors.  This years tournament will include a putting competition\, silent auction and goodie bags for all participants.\n\n\n\nSign up at: https://elitestore-476766.square.site/
X-ALT-DESC;FMTTYPE=text/html:Join us for the 3rd Annual E.F.N. Charity Golf Tournament.&nbsp\; This years proceeds will go to support the North Texas Food Bank.&nbsp\; The Tarrant County NTFB serves 13 counties providing 1\,000\,000 meals per week.&nbsp\; Just $10 dollars can provide up to 50 meals for hungry children\, families and seniors.&nbsp\; This years tournament will include a putting competition\, silent auction and goodie bags for all participants.<br />\n<br />\nSign up at: <a href="https://elitestore-476766.square.site/">https://elitestore-476766.square.site/</a><br />\n<br />\n&nbsp\;
LOCATION:Grapevine Municipal Golf Course 3800 Fairway Drive Grapevine\, TX Sign In Table located inside Persimmon
UID:e.770.196623
SEQUENCE:3
DTSTAMP:20260425T040107Z
URL:https://business.grapevinechamber.org/events/details/3rd-annual-elite-fitness-nutrition-golf-tournament-196623
END:VEVENT

END:VCALENDAR
