BEGIN:VCALENDAR
VERSION:2.0
PRODID:-//ChamberMaster//Event Calendar 2.0//EN
METHOD:PUBLISH
X-PUBLISHED-TTL:P3D
REFRESH-INTERVAL:P3D
CALSCALE:GREGORIAN
BEGIN:VEVENT
DTSTART;VALUE=DATE:20120924
DTEND;VALUE=DATE:20120925
TRANSP:TRANSPARENT
X-MICROSOFT-CDO-ALLDAYEVENT:TRUE
SUMMARY:33rd Annual Chamber Golf Tournament
DESCRIPTION:Download Tournament Brochure w/ Sponsorship Opportunities\n\n\n\nGolf Classic Schedule \n\n	\n		Registration Opens 7:30 a.m. \n	\n		Breakfast Served 7:30   8:30 \n	\n		Driving Range Opens 7:30 a.m. S\n	\n		Shotgun Start 9:00 a.m. \n	\n		Luncheon (follows play) \n	\n		Awards & Reception
X-ALT-DESC;FMTTYPE=text/html:<a href="http://www.grapevinechamber.org/files/Golf%20Classic%20Brochure%202012.pdf" target="_blank"><span style="color:#0000ff\;"><span style="font-size: 14px\; "><span style="font-family: arial\; ">Download Tournament Brochure w/ Sponsorship Opportunities</span></span></span></a><br />\n<br />\n<strong><u><span style="font-size:14px\;"><span style="font-family: arial\; ">Golf Classic Schedule </span></span></u></strong>\n<ul>\n	<li>\n		<span style="font-size:14px\;"><span style="font-family: arial\; ">Registration Opens 7:30 a.m. </span></span></li>\n	<li>\n		<span style="font-size:14px\;"><span style="font-family: arial\; ">Breakfast Served 7:30 &ndash\; 8:30 </span></span></li>\n	<li>\n		<span style="font-size:14px\;"><span style="font-family: arial\; ">Driving Range Opens 7:30 a.m. S</span></span></li>\n	<li>\n		<span style="font-size:14px\;"><span style="font-family: arial\; ">Shotgun Start 9:00 a.m. </span></span></li>\n	<li>\n		<span style="font-size:14px\;"><span style="font-family: arial\; ">Luncheon (follows play) </span></span></li>\n	<li>\n		<span style="font-size:14px\;"><span style="font-family: arial\; ">Awards &amp\; Reception</span></span></li>\n</ul>\n
LOCATION:Grapevine Golf Course 3800 Fairway Drive Grapevine\, TX 76051
UID:e.770.162672
SEQUENCE:3
DTSTAMP:20260422T094107Z
URL:https://business.grapevinechamber.org/events/details/33rd-annual-chamber-golf-tournament-09-24-2012-162672
END:VEVENT

END:VCALENDAR
