BEGIN:VCALENDAR
VERSION:2.0
PRODID:-//ChamberMaster//Event Calendar 2.0//EN
METHOD:PUBLISH
X-PUBLISHED-TTL:P3D
REFRESH-INTERVAL:P3D
CALSCALE:GREGORIAN
BEGIN:VEVENT
DTSTART:20121113T233000Z
DTEND:20121114T013000Z
X-MICROSOFT-CDO-ALLDAYEVENT:FALSE
SUMMARY:20th Annual Classic Chili Cook-Off
DESCRIPTION:Live Music\n	\n		Chili Tasting\n	\n		People's Choice Chili Award\n	\n		Food drive supporting GRACE
X-ALT-DESC;FMTTYPE=text/html:<ul>\n	<li>\n		Live Music</li>\n	<li>\n		Chili Tasting</li>\n	<li>\n		People&#39\;s Choice Chili Award</li>\n	<li>\n		Food drive supporting GRACE</li>\n</ul>\n
LOCATION:Near Classic Pre-Owned 2501 William D. Tate Grapevine\, TX 76051
UID:e.770.162674
SEQUENCE:3
DTSTAMP:20260420T105959Z
URL:https://business.grapevinechamber.org/events/details/20th-annual-classic-chili-cook-off-11-13-2012-162674
END:VEVENT

END:VCALENDAR
