BEGIN:VCALENDAR
VERSION:2.0
PRODID:-//ChamberMaster//Event Calendar 2.0//EN
METHOD:PUBLISH
X-PUBLISHED-TTL:P3D
REFRESH-INTERVAL:P3D
CALSCALE:GREGORIAN
BEGIN:VEVENT
DTSTART;VALUE=DATE:20230807
DTEND;VALUE=DATE:20230808
TRANSP:TRANSPARENT
X-MICROSOFT-CDO-ALLDAYEVENT:TRUE
SUMMARY:2023 North Texas Job Fair
DESCRIPTION:
X-ALT-DESC;FMTTYPE=text/html:<div style="position: relative\; width: 100%\; height: 0\; padding-top: 129.4118%\;\n padding-bottom: 0\; box-shadow: 0 2px 8px 0 rgba(63\,69\,81\,0.16)\; margin-top: 1.6em\; margin-bottom: 0.9em\; overflow: hidden\;\n border-radius: 8px\; will-change: transform\;"><iframe allow="fullscreen" allowfullscreen="allowfullscreen" loading="lazy" src="https://www.canva.com/design/DAFlDikETQY/view?embed" style="position: absolute\; width: 100%\; height: 100%\; top: 0\; left: 0\; border: none\; padding: 0\;margin: 0\;"></iframe></div>\n
LOCATION:
UID:e.770.197214
SEQUENCE:3
DTSTAMP:20260425T000143Z
URL:https://business.grapevinechamber.org/events/details/2023-north-texas-job-fair-197214
END:VEVENT

END:VCALENDAR
