BEGIN:VCALENDAR
VERSION:2.0
PRODID:-//ChamberMaster//Event Calendar 2.0//EN
METHOD:PUBLISH
X-PUBLISHED-TTL:P3D
REFRESH-INTERVAL:P3D
CALSCALE:GREGORIAN
BEGIN:VEVENT
DTSTART;VALUE=DATE:20121013
DTEND;VALUE=DATE:20121015
TRANSP:TRANSPARENT
X-MICROSOFT-CDO-ALLDAYEVENT:TRUE
SUMMARY:19TH ANNUAL NORTH TEXAS BOOK & PAPER SHOW OCTOBER 13-14\, 2012
DESCRIPTION:Heritage Auctions & Texas Booksellers Association\n\n	Proudly Presents:\n\n	\n\n	19th Annual North Texas Book & Paper Show\n\n	 October 13-14\, 2012\n\n	\n\n	Used\, Rare and Collectible Books\, Ephemera\, Autographs\, Photographs\, Maps\, Prints\, Postcards\, First Editions\, Fine Bindings\, Childrens\, Illustrated\, Cookery\, History\, Texana Military\, Misc. Nonfiction and Reference\n\n	\n\n	October 13th - 14th\, 2012\n\n	Saturday 10 am - 5 pm\n\n	Sunday 10 am - 4 pm
X-ALT-DESC;FMTTYPE=text/html:<p align="center">\n	<font size="3"><strong><font size="4"><font size="3">Heritage Auctions &amp\; Texas Booksellers Association<br />\n	Proudly Presents:</font><br />\n	<br />\n	19th Annual North Texas Book &amp\; Paper Show<br />\n	&nbsp\;October 13-14\, 2012</font></strong><br />\n	<br />\n	Used\, Rare and Collectible Books\, Ephemera\, Autographs\, Photographs\, Maps\, Prints\, Postcards\, First Editions\, Fine Bindings\, Childrens\, Illustrated\, Cookery\, History\, Texana Military\, Misc. Nonfiction and Reference<br />\n	<br />\n	<strong>October 13th - 14th\, 2012</strong><br />\n	Saturday 10 am - 5 pm<br />\n	Sunday 10 am - 4 pm</font></p>\n
LOCATION:At the Grapevine Convention Center 1209 South Main Street Grapevine\, TX 76051
UID:e.770.163037
SEQUENCE:3
DTSTAMP:20260422T112844Z
URL:https://business.grapevinechamber.org/events/details/19th-annual-north-texas-book-paper-show-october-13-14-2012-10-13-2012-163037
END:VEVENT

END:VCALENDAR
