BEGIN:VCALENDAR
VERSION:2.0
PRODID:-//ChamberMaster//Event Calendar 2.0//EN
METHOD:PUBLISH
X-PUBLISHED-TTL:P3D
REFRESH-INTERVAL:P3D
CALSCALE:GREGORIAN
BEGIN:VEVENT
DTSTART;VALUE=DATE:20230612
DTEND;VALUE=DATE:20230613
TRANSP:TRANSPARENT
X-MICROSOFT-CDO-ALLDAYEVENT:TRUE
SUMMARY:14th Annual Darren Medlin Memorial Golf Tournament
DESCRIPTION:The 14th annual Darren Medlin Golf Tournament is dedicated to the memory of Grapevine Police Officer Darren Medlin\, who was killed by an intoxicated driver on June 12\, 2004.\n\n\n\nThe tournament will be held on June 12th at the Cowboys Golf Club and is sponsored by Remember the Fallen Heroes\, a local 501c3 organization\, dedicated to the benefit and assistance of police officers\, and their families\, who are injured or killed in the line of duty.\n\n\n\nSponsors for the tournament are needed and all donations are appreciated and are fully tax deductible.
X-ALT-DESC;FMTTYPE=text/html:The 14th annual Darren Medlin Golf Tournament is dedicated to the memory of Grapevine Police Officer Darren Medlin\, who was killed by an intoxicated driver on June 12\, 2004.<br />\n<br />\nThe tournament will be held on June 12th at the Cowboys Golf Club and is sponsored by Remember the Fallen Heroes\, a local 501c3 organization\, dedicated to the benefit and assistance of police officers\, and their families\, who are injured or killed in the line of duty.<br />\n<br />\nSponsors for the tournament are needed and all donations are appreciated and are fully tax deductible.<br />\n<br />\n&nbsp\;
LOCATION:Cowboys Golf Club 1600 Fairway Dr. Grapevine\, TX 76051
UID:e.770.197168
SEQUENCE:3
DTSTAMP:20260425T015253Z
URL:https://business.grapevinechamber.org/events/details/14th-annual-darren-medlin-memorial-golf-tournament-197168
END:VEVENT

END:VCALENDAR
