BEGIN:VCALENDAR
VERSION:2.0
PRODID:-//ChamberMaster//Event Calendar 2.0//EN
METHOD:PUBLISH
X-PUBLISHED-TTL:P3D
REFRESH-INTERVAL:P3D
CALSCALE:GREGORIAN
BEGIN:VEVENT
DTSTART:20130408T143000Z
DTEND:20130408T143000Z
X-MICROSOFT-CDO-ALLDAYEVENT:FALSE
SUMMARY:13th Annual GCISD Education Foundation Golf Tournament
DESCRIPTION:You are invited to sponsor the tournament at one of several levels. In addition to team and event sponsorships\, donations are needed for the Pre-Tournament Auction. We hope you will join the Education Foundation for this year?s golf tournament. For more information\, please call 817.251.5480\, or email at janice.kane@gcisd.net.\n\n	\n\n	Driving toward a common goal!\n\n	\n\n	An opportunity exists for you to make an impact on our children and community by supporting the Education Foundation?s golf tournament events.\n\n	\n\n	Funds raised by the Grapevine- Colleyville Education Foundation golf tournament events will support collaborative efforts of GCISD and the Foundation.\n\n	\n\n	While core educational needs are met through the allocation of tax dollars\, the margin of excellence is possible only by contributions and efforts that go above and beyond the minimum.\n\n	\n\n	Contributions to the Foundation are an investment in the future. Your contribution assists in providing educational programs that create education excellence. Since its inception in 1998\, the Foundation has made tremendous strides\, funding over 1\,100 projects that directly benefit our teachers and students by distributing more than $1\,700\,000 to our schools. These additional dollars enable creative programs and support for teachers that make a significant difference in the lives of our
X-ALT-DESC;FMTTYPE=text/html:<p>\n	<span style="font-size:16px\;"><span style="font-family: arial\;">You are invited to sponsor the tournament at one of several levels. In addition to team and event sponsorships\, donations are needed for the Pre-Tournament Auction. We hope you will join the Education Foundation for this year?s golf tournament. For more information\, please call 817.251.5480\, or email at janice.kane@gcisd.net.<br>\n	<br>\n	<u><strong>Driving toward a common goal!</strong></u><br>\n	<br>\n	An opportunity exists for you to make an impact on our children and community by supporting the Education Foundation?s golf tournament events.<br>\n	<br>\n	Funds raised by the Grapevine- Colleyville Education Foundation golf tournament events will support collaborative efforts of GCISD and the Foundation.<br>\n	<br>\n	While core educational needs are met through the allocation of tax dollars\, the margin of excellence is possible only by contributions and efforts that go above and beyond the minimum.<br>\n	<br>\n	Contributions to the Foundation are an investment in the future. Your contribution assists in providing educational programs that create education excellence. Since its inception in 1998\, the Foundation has made tremendous strides\, funding over 1\,100 projects that directly benefit our teachers and students by distributing more than $1\,700\,000 to our schools. These additional dollars enable creative programs and support for teachers that make a significant difference in the lives of our</span></span></p>\n
LOCATION:Timarron Country Club Southlake
UID:e.770.163435
SEQUENCE:3
DTSTAMP:20260421T161825Z
URL:https://business.grapevinechamber.org/events/details/13th-annual-gcisd-education-foundation-golf-tournament-04-08-2013-163435
END:VEVENT

END:VCALENDAR
