BEGIN:VCALENDAR
VERSION:2.0
PRODID:-//ChamberMaster//Event Calendar 2.0//EN
METHOD:PUBLISH
X-PUBLISHED-TTL:P3D
REFRESH-INTERVAL:P3D
CALSCALE:GREGORIAN
BEGIN:VEVENT
DTSTART:20131130T160000Z
DTEND:20131201T220000Z
X-MICROSOFT-CDO-ALLDAYEVENT:FALSE
SUMMARY:11th annual Canton in the City Holiday Gift Market
DESCRIPTION:Get a jump-start on this year's holiday gift giving list and spend the day with family and friends and shop the 10th annual CANTON IN THE CITY HOLIDAY GIFT MARKET inside the Grapevine Convention\, 1209 South Main Street\, Grapevine 76051 (972) 471-0601 on Sat/Sun\, November 30 - December 1\, 2013 (Thanksgiving weekend-biggest shopping weekend of the year!).
X-ALT-DESC;FMTTYPE=text/html:Get a jump-start on this year&#39\;s holiday gift giving list and spend the day with family and friends and shop the 10th annual CANTON IN THE CITY HOLIDAY GIFT MARKET inside the Grapevine Convention\, 1209 South Main Street\, Grapevine 76051 (972) 471-0601 on Sat/Sun\, November 30 - December 1\, 2013 (Thanksgiving weekend-biggest shopping weekend of the year!). 
LOCATION:Grapevine Convention Center\, 1209 S. Main St\, Grapevine\, TX 76051
UID:e.770.165482
SEQUENCE:3
DTSTAMP:20260421T000558Z
URL:https://business.grapevinechamber.org/events/details/11th-annual-canton-in-the-city-holiday-gift-market-11-30-2013-165482
END:VEVENT

END:VCALENDAR
