BEGIN:VCALENDAR
VERSION:2.0
PRODID:-//ChamberMaster//Event Calendar 2.0//EN
METHOD:PUBLISH
X-PUBLISHED-TTL:P3D
REFRESH-INTERVAL:P3D
CALSCALE:GREGORIAN
BEGIN:VEVENT
DTSTART;VALUE=DATE:20121124
DTEND;VALUE=DATE:20121126
TRANSP:TRANSPARENT
X-MICROSOFT-CDO-ALLDAYEVENT:TRUE
SUMMARY:10th Annual Canton in the City Holiday Gift Market
DESCRIPTION:FUND RAISER / SHOPPING EXTRAVAGANZA\n\nBring a friend and stroll through the 23\,500 sq. ft. climate-controlled\, handicapped equipped building. There are 78 vendors throughout the facility where you may purchase custom-made holiday and home d cor\, high-end fabrics and decorative pillows\, adult and children apparel\, art\, packaged dry goods\, kitchen accessories\, candles\, perfumes\, purses\, books\, educational toys\, jewelry\, bath and beauty\, and so much more!
X-ALT-DESC;FMTTYPE=text/html:FUND RAISER / SHOPPING EXTRAVAGANZA<br />\nBring a friend and stroll through the 23\,500 <span>sq</span>. ft. climate-controlled\, handicapped equipped building. There are 78 vendors throughout the facility where you may purchase custom-made holiday and home <span>d&eacute\;cor</span>\, high-end fabrics and decorative pillows\, adult and children apparel\, art\, packaged dry goods\, kitchen accessories\, candles\, perfumes\, purses\, books\, educational toys\, jewelry\, bath and beauty\, and so much more!<br />\n
LOCATION:Grapevine Convention Center\, 1209 S. Main St\, Grapevine\, TX 76051
UID:e.770.163081
SEQUENCE:3
DTSTAMP:20260420T110310Z
URL:https://business.grapevinechamber.org/events/details/10th-annual-canton-in-the-city-holiday-gift-market-11-24-2012-163081
END:VEVENT

END:VCALENDAR
